BEGIN:VCALENDAR
VERSION:2.0
PRODID:-//EFA42 - ECPv6.15.20//NONSGML v1.0//EN
CALSCALE:GREGORIAN
METHOD:PUBLISH
X-WR-CALNAME:EFA42
X-ORIGINAL-URL:https://efa42.org
X-WR-CALDESC:Évènements pour EFA42
REFRESH-INTERVAL;VALUE=DURATION:PT1H
X-Robots-Tag:noindex
X-PUBLISHED-TTL:PT1H
BEGIN:VTIMEZONE
TZID:Europe/Paris
BEGIN:DAYLIGHT
TZOFFSETFROM:+0100
TZOFFSETTO:+0200
TZNAME:CEST
DTSTART:20250330T010000
END:DAYLIGHT
BEGIN:STANDARD
TZOFFSETFROM:+0200
TZOFFSETTO:+0100
TZNAME:CET
DTSTART:20251026T010000
END:STANDARD
BEGIN:DAYLIGHT
TZOFFSETFROM:+0100
TZOFFSETTO:+0200
TZNAME:CEST
DTSTART:20260329T010000
END:DAYLIGHT
BEGIN:STANDARD
TZOFFSETFROM:+0200
TZOFFSETTO:+0100
TZNAME:CET
DTSTART:20261025T010000
END:STANDARD
BEGIN:DAYLIGHT
TZOFFSETFROM:+0100
TZOFFSETTO:+0200
TZNAME:CEST
DTSTART:20270328T010000
END:DAYLIGHT
BEGIN:STANDARD
TZOFFSETFROM:+0200
TZOFFSETTO:+0100
TZNAME:CET
DTSTART:20271031T010000
END:STANDARD
END:VTIMEZONE
BEGIN:VEVENT
DTSTART;TZID=Europe/Paris:20260426T093000
DTEND;TZID=Europe/Paris:20260426T130000
DTSTAMP:20260420T032216
CREATED:20260307T132616Z
LAST-MODIFIED:20260307T132616Z
UID:3279-1777195800-1777208400@efa42.org
SUMMARY:Journée récréative
DESCRIPTION:Visite à la ferme des délices et dégustation de glaces\, suivie pour ceux qui le souhaite d’un pique-nique sur place. \nPlus d’information à venir (inscriptions\, tarif…)
URL:https://efa42.org/rencontre/journee-recreative/
LOCATION:Saint Cyr les Vignes
END:VEVENT
BEGIN:VEVENT
DTSTART;TZID=Europe/Paris:20260605T193000
DTEND;TZID=Europe/Paris:20260605T230000
DTSTAMP:20260420T032216
CREATED:20260307T133057Z
LAST-MODIFIED:20260307T133057Z
UID:3283-1780687800-1780700400@efa42.org
SUMMARY:Apéro de la parentalité
DESCRIPTION:Retrouvez nous pour un apéro-discussion autour de la parentalité adoptive. Arrivées/départs libres\, sans inscription. \nAdresse précise à venir.
URL:https://efa42.org/rencontre/apero-de-la-parentalite-2/
LOCATION:Balbigny
END:VEVENT
BEGIN:VEVENT
DTSTART;TZID=Europe/Paris:20260705T100000
DTEND;TZID=Europe/Paris:20260705T120000
DTSTAMP:20260420T032216
CREATED:20260402T184020Z
LAST-MODIFIED:20260402T184020Z
UID:3361-1783245600-1783252800@efa42.org
SUMMARY:Café adoption
DESCRIPTION:Dernier évènement avant la pause estivale\, notre\, désormais traditionnel\, café adoption à la roseraie aura lieu le 5 juillet. Pas d’inscription nécessaire. Arrivée et départ libre. Ouvert à tous\, aux postulants comme aux familles (jeux extérieurs et mini ferme sur place).
URL:https://efa42.org/rencontre/cafe-adoption-4/
LOCATION:la roseraie St Galmier\, Saint Galmier\, France
END:VEVENT
BEGIN:VEVENT
DTSTART;TZID=Europe/Paris:20260920T100000
DTEND;TZID=Europe/Paris:20260920T170000
DTSTAMP:20260420T032216
CREATED:20260307T133358Z
LAST-MODIFIED:20260307T133358Z
UID:3287-1789898400-1789923600@efa42.org
SUMMARY:Réunion témoignage et Pique Nique
DESCRIPTION:Réunion témoignage suivie de notre traditionnel pique-nique avec mise en commun et partage des spécialités de chacun. Sans inscription.
URL:https://efa42.org/rencontre/reunion-temoignage-et-pique-nique-2/
LOCATION:MFR Mornand en Forez\, Les Maréchaux 848 route de Montbrison\, Mornand en Forez.\, 42600
END:VEVENT
BEGIN:VEVENT
DTSTART;TZID=Europe/Paris:20261010T090000
DTEND;TZID=Europe/Paris:20261010T120000
DTSTAMP:20260420T032216
CREATED:20260307T133914Z
LAST-MODIFIED:20260307T133914Z
UID:3289-1791622800-1791633600@efa42.org
SUMMARY:Conférence
DESCRIPTION:Intervention de l’association PETALES France pour une conférence sur l’attachement et ses difficultés. \nPlus d’informations à venir (lieu\, inscription\, tarif…)
URL:https://efa42.org/rencontre/conference/
END:VEVENT
END:VCALENDAR