BEGIN:VCALENDAR
VERSION:2.0
PRODID:-//EFA42 - ECPv6.15.20//NONSGML v1.0//EN
CALSCALE:GREGORIAN
METHOD:PUBLISH
X-ORIGINAL-URL:https://efa42.org
X-WR-CALDESC:Évènements pour EFA42
REFRESH-INTERVAL;VALUE=DURATION:PT1H
X-Robots-Tag:noindex
X-PUBLISHED-TTL:PT1H
BEGIN:VTIMEZONE
TZID:Europe/Paris
BEGIN:DAYLIGHT
TZOFFSETFROM:+0100
TZOFFSETTO:+0200
TZNAME:CEST
DTSTART:20230326T010000
END:DAYLIGHT
BEGIN:STANDARD
TZOFFSETFROM:+0200
TZOFFSETTO:+0100
TZNAME:CET
DTSTART:20231029T010000
END:STANDARD
BEGIN:DAYLIGHT
TZOFFSETFROM:+0100
TZOFFSETTO:+0200
TZNAME:CEST
DTSTART:20240331T010000
END:DAYLIGHT
BEGIN:STANDARD
TZOFFSETFROM:+0200
TZOFFSETTO:+0100
TZNAME:CET
DTSTART:20241027T010000
END:STANDARD
BEGIN:DAYLIGHT
TZOFFSETFROM:+0100
TZOFFSETTO:+0200
TZNAME:CEST
DTSTART:20250330T010000
END:DAYLIGHT
BEGIN:STANDARD
TZOFFSETFROM:+0200
TZOFFSETTO:+0100
TZNAME:CET
DTSTART:20251026T010000
END:STANDARD
END:VTIMEZONE
BEGIN:VEVENT
DTSTART;TZID=Europe/Paris:20240524T200000
DTEND;TZID=Europe/Paris:20240524T233000
DTSTAMP:20260423T121105
CREATED:20240106T160502Z
LAST-MODIFIED:20240517T110654Z
UID:537-1716580800-1716593400@efa42.org
SUMMARY:Temps d'échanges avec Voix d'adoptés - COMPLET
DESCRIPTION:Le vendredi 24 mai\, EFA et Voix d’adoptés vous proposent un temps d’échange autour du jeu / outil « A’dop » ! \nToutes les informations dans le lien ci dessous : \nTEMPS D’ECHANGE 24 mai 24 CD \n 
URL:https://efa42.org/rencontre/reunion-temoignage-2/
LOCATION:Saint-Etienne – 6 bis rue du coin\, 6 bis rue du coin\, saint-etienne\, 42000\, France
END:VEVENT
END:VCALENDAR